BEGIN:VCALENDAR
VERSION:2.0
METHOD:PUBLISH
PRODID::-//Obvius//NONSGML ICal//DA
BEGIN:VEVENT
UID:5025517@nors.ku.dk
DESCRIPTION:Gender Lunch at HUM presentations by Amaru Ibarra Olguin\, Un
 iversity of Copenhagen\, and Marika Cifor\, University of Washington.\n\
 nhttps://koensforskning.ku.dk/koordinationen/english/events/gender-lunch/
SUMMARY:Gender Lunch at HUM
CATEGORIES:Seminar
LOCATION:South Campus\, room 10.3.28
ORGANIZER:Department of Arts and Cultural Studies & Coordination for Gende
 r Research
DTSTART:20260422T100000Z
DTSTAMP:20260422T100000Z
DTEND:20260422T110000Z
END:VEVENT
BEGIN:VEVENT
UID:5007894@nors.ku.dk
DESCRIPTION:Foredrag med Janus Mortensen\, Center for Internationalisering
  og Parallelsproglighed\, Københavns Universitet.\n\nhttps://lingvistkred
 sen.ku.dk/dfl/arrangementer/dfl-foraar-2026/kunstig-intelligens-paa-univer
 sitetet/
SUMMARY:Kunstig intelligens på universitetet
LOCATION:Søndre Campus\, lokale 22.0.49
ORGANIZER:Dansk Funktionel Lingvistik / Elisabeth Engberg-Pedersen
DTSTART:20260422T121500Z
DTSTAMP:20260422T121500Z
DTEND:20260422T140000Z
END:VEVENT
BEGIN:VEVENT
UID:5025814@nors.ku.dk
DESCRIPTION:Oplæg med fokus på sammenhængen mellem maskulinitet\, krop 
 og rutiner.\n\nhttps://koensforskning.ku.dk/koordinationen/arrangementer/2
 026/nye-maskulinitetsrutiner/
SUMMARY:Nye maskulinitetsrutiner
CATEGORIES:Event
LOCATION:Søndre Campus\, KUA3\, 4A.0.56
ORGANIZER:Praktikanterne ved Center for Køn\, Seksualitet og Forskellighe
 d og Koordinationen for Kønsforskning
DTSTART:20260430T130000Z
DTSTAMP:20260430T130000Z
DTEND:20260430T150000Z
END:VEVENT
BEGIN:VEVENT
UID:5020297@nors.ku.dk
DESCRIPTION:Center for Læseforskning inviterer til eftermiddagsseminar i 
 Slagelse.\n\nhttps://laes.hum.ku.dk/om/kalender/tidlig-opsporing-og-indsat
 s-mod-ordblindhed/
SUMMARY:Tidlig opsporing og indsats mod ordblindhed
CATEGORIES:Seminar
LOCATION:Professionshøjskolen Absalon - Campus Slagelse\, Sdr. Stationsve
 j 30\, 4200 Slagelse (Lokale A1.12)
ORGANIZER:Center for Læseforskning\, Anna Steenberg Gellert
DTSTART:20260506T120000Z
DTSTAMP:20260506T120000Z
DTEND:20260506T143000Z
END:VEVENT
BEGIN:VEVENT
UID:5031196@nors.ku.dk
DESCRIPTION:Talk by Martin Haspelmath\, Max Planck Institute for Evolutio
 nary Anthropology.\n\nhttps://lingvistkredsen.ku.dk/kalender/2026/the-shor
 tness-of-roots-explains-limits-on-lexification-richness/
SUMMARY:The shortness of roots explains limits on lexification richness
CATEGORIES:Oplæg
LOCATION:South Campus\, room 21.0.54
ORGANIZER:Lingvistkredsen
DTSTART:20260507T151500Z
DTSTAMP:20260507T151500Z
DTEND:20260507T170000Z
END:VEVENT
BEGIN:VEVENT
UID:5031175@nors.ku.dk
DESCRIPTION:Public PhD defence by Mads Nielsen.\n\nhttps://nors.ku.dk/eng
 lish/calendar/2026/effects-of-language-specific-structure/
SUMMARY:Effects of language-specific structure on agrammatism lessons from
  Greenlandic
CATEGORIES:Ph.d.-forsvar
LOCATION:South Campus\, 23.0.49
ORGANIZER:Department of Nordic Studies and Linguistics
DTSTART:20260508T110000Z
DTSTAMP:20260508T110000Z
DTEND:20260508T130000Z
END:VEVENT
BEGIN:VEVENT
UID:5027431@nors.ku.dk
DESCRIPTION:TRANSITION Talk with Jason Finch\, Åbo Akademi University.\n\
 nhttps://transition.ku.dk/events/2026/two-views-of-literary-setting/
SUMMARY:Two Views of Literary Setting: Deep Locating Twentieth-Century Ame
 rica and Its Rural/Urban Transitions
CATEGORIES:Forelæsning
LOCATION:South Campus\, room 4-0-69
ORGANIZER:Centre for Changing Urban and Rural Lives (TRANSITION)
DTSTART:20260512T080000Z
DTSTAMP:20260512T080000Z
DTEND:20260512T090000Z
END:VEVENT
BEGIN:VEVENT
UID:5008170@nors.ku.dk
DESCRIPTION:Talk by Karolin Obert\, Lunds Universitet & University of Tex
 as at Austin.\n\nhttps://lingvistkredsen.ku.dk/kalender/2026/talking-while
 -walking/
SUMMARY:Talking while Walking: Glimpses into the Moving Speech Situation
CATEGORIES:Oplæg
LOCATION:South Campus\, room 21.0.47
ORGANIZER:Lingvistkredsen
DTSTART:20260512T151500Z
DTSTAMP:20260512T151500Z
DTEND:20260512T170000Z
END:VEVENT
BEGIN:VEVENT
UID:5011578@nors.ku.dk
DESCRIPTION:Symposium arrangeret af NorS i anledning af\, at det i år er 
 15 år siden at hovedværket Grammatik over det Danske Sprog (GDS)  ble
 v offentliggjort.\n\nhttps://nors.ku.dk/kalender/2026/grammatik-over-det-d
 anske-sprog-15-aar-efter/
SUMMARY:Grammatik over det Danske Sprog &#8211\; 15 år efter
CATEGORIES:Symposium
LOCATION:Søndre Campus\, lokale 4A.0.68
ORGANIZER:Elisabeth Engberg-Pedersen (NorS)\, Tanya Karoli Christensen (No
 rS)\, Eva Skafte Jensen (DSN) og Peter Juul Nielsen (SDU)
DTSTART:20260518T070000Z
DTSTAMP:20260518T070000Z
DTEND:20260518T220000Z
END:VEVENT
BEGIN:VEVENT
UID:5020303@nors.ku.dk
DESCRIPTION:Center for Læseforskning inviterer til eftermiddagsseminar i 
 Odense.\n\nhttps://laes.hum.ku.dk/om/kalender/tidlig-opsporing-og-indsats-
 mod-ordblindhed_odense/
SUMMARY:Tidlig opsporing og indsats mod ordblindhed
CATEGORIES:Seminar
LOCATION:UCL Erhvervsakademi og Professionshøjskole\, Niels Bohrs Allé 1
 \, 5230 Odense (Lokale D.201)
ORGANIZER:Center for Læseforskning\, Anna Steenberg Gellert
DTSTART:20260519T120000Z
DTSTAMP:20260519T120000Z
DTEND:20260519T143000Z
END:VEVENT
BEGIN:VEVENT
UID:5030071@nors.ku.dk
DESCRIPTION:Klik her og læs program og resumeer for temaeftermiddagen om
  AI og leksikografi med tre forskellige oplæg\, spørgsmål og diskussion
 . \n\nhttps://leksikografer.dk/kalender_foredrag/ai-og-leksikografi/
SUMMARY:AI og leksikografi
CATEGORIES:Foredrag
LOCATION:Søndre Campus (KUA 1)\, Emil Holms kanal 2\, bygning 22\, lokale
  22.0.47.
ORGANIZER:Foreningen af Leksikografer i Danmark (LEDA)
DTSTART:20260520T120000Z
DTSTAMP:20260520T120000Z
DTEND:20260520T150000Z
END:VEVENT
BEGIN:VEVENT
UID:5029825@nors.ku.dk
DESCRIPTION:Seminar\n\nhttps://nors.ku.dk/kalender/dansk-som-andetsprog-20
 26/
SUMMARY:Årligt seminar i dansk som andetsprog 2026
CATEGORIES:Seminar
LOCATION:Søndre Campus\, auditorium 21.0.54 (Multisalen)
ORGANIZER:Institut for Nordiske Studier og Sprogvidenskab / Dansk som ande
 t- og fremmedsprog
DTSTART:20260521T110000Z
DTSTAMP:20260521T110000Z
DTEND:20260521T143000Z
END:VEVENT
BEGIN:VEVENT
UID:5031472@nors.ku.dk
DESCRIPTION:Talk by Olena Hankivsky.\n\nhttps://koensforskning.ku.dk/koord
 inationen/english/events/operationalizing-intersectionality-in-public-poli
 cy-lessons-learned-and-future-directions/
SUMMARY:Operationalising Intersectionality in Public Policy: Lessons Learn
 ed and Future Directions
LOCATION:CSS\, Øster Farimagsgade 5\, Room 16.2.55
ORGANIZER:Coordination for Gender Research and Mathias Wullum Nielsen at t
 he Department of Sociology
DTSTART:20260526T103000Z
DTSTAMP:20260526T103000Z
DTEND:20260526T120000Z
END:VEVENT
BEGIN:VEVENT
UID:5029141@nors.ku.dk
DESCRIPTION:TRANSITION Dialogue with Christian Sandbjerg Hansen\, Aarhus U
 niversity.\n\nhttps://transition.ku.dk/events/2026/welfare-states-and-urba
 n-marginality/
SUMMARY:Welfare States and Urban Marginality: Female Prostitution in the m
 id-1900s
LOCATION:South Campus\, room 4A-2-78 (Building 4A\, 2nd Floor)
ORGANIZER:Centre for Changing Urban and Rural Lives (TRANSITION)
DTSTART:20260526T120000Z
DTSTAMP:20260526T120000Z
DTEND:20260526T130000Z
END:VEVENT
BEGIN:VEVENT
UID:5007936@nors.ku.dk
DESCRIPTION:Foredrag med Mads Nielsen\, Institut for Nordiske Studier og S
 progvidenskab\, Københavns Universitet.\n\nhttps://lingvistkredsen.ku.dk/
 dfl/arrangementer/dfl-foraar-2026/sprogspecifikke-og-tvaersproglige-traek-
 ved-agrammatisme/
SUMMARY:Sprogspecifikke og tværsproglige træk ved agrammatisme
LOCATION:Søndre Campus\, lokale 22.0.49
ORGANIZER:Dansk Funktionel Lingvistik / Elisabeth Engberg-Pedersen
DTSTART:20260527T121500Z
DTSTAMP:20260527T121500Z
DTEND:20260527T140000Z
END:VEVENT
BEGIN:VEVENT
UID:5025532@nors.ku.dk
DESCRIPTION:TRANSITION Talk with Katharina Pabst\, Radboud University.\n\n
 https://transition.ku.dk/events/2026/operationalising-stance-in-sociolingu
 istics/
SUMMARY:Operationalising stance in sociolinguistics: Insights from urban a
 nd rural settings
LOCATION:South Campus\, Auditorium 23.0.49 (Building 23\, Ground Floor)
ORGANIZER:Center for Changing Urban and Rural Lives (TRANSITION)
DTSTART:20260602T080000Z
DTSTAMP:20260602T080000Z
DTEND:20260602T090000Z
END:VEVENT
BEGIN:VEVENT
UID:5016889@nors.ku.dk
DESCRIPTION:Professor Johnny Kondrup holder afskedsforelæsning.\n\nhttps:
 //nors.ku.dk/kalender/2026/inspirationen-fra-romantikken/
SUMMARY:Inspirationen fra romantikken
LOCATION:Søndre Campus\, auditorium 22.0.11
ORGANIZER:Institut for Nordiske Studier og Sprogvidenskab
DTSTART:20260611T121500Z
DTSTAMP:20260611T121500Z
END:VEVENT
BEGIN:VEVENT
UID:5030746@nors.ku.dk
DESCRIPTION:TRANSITION Panel with Pia Quist\, Malene Monka\, Torben Jelsba
 k\, and Mikkel Thelle.\n\nhttps://transition.ku.dk/events/2026/transition-
 at-folkemoedet-2026/
SUMMARY:TRANSITION at Folkemødet 2026
CATEGORIES:Event
LOCATION:Folkemødet\, Allinge\, Bornholm
ORGANIZER:Centre for Changing Urban and Rural Lives (TRANSITION)
DTSTART:20260612T130000Z
DTSTAMP:20260612T130000Z
DTEND:20260612T140000Z
END:VEVENT
BEGIN:VEVENT
UID:5007369@nors.ku.dk
DESCRIPTION:Conference.\n\nhttps://nors.ku.dk/english/calendar/2026/tenth-
 international-symposium-on-runes-and-runic-inscriptions-past-present-and-b
 eyond/
SUMMARY:Tenth International Symposium on Runes and Runic Inscriptions (ISR
 RI 10): Past\, Present and Beyond
CATEGORIES:Konference
LOCATION:South Campus\, Auditorium 4A.0.69 and 4A.0.68
ORGANIZER:Rikke Steenholt Olesen\, NorS\, Lisbeth M. Imer\, National Museu
 m of Denmark. Frederikke Reimer\, National Museum of Denmark/Aarhus Univer
 sity\, and Michael Lerche Nielsen\, NorS Co-organizers: Professor emeritus
  Bent Jørgensen\, NorS\, and Professor emeritus Henrik Williams\, Uppsala
  University/Runforum
DTSTART:20260816T220000Z
DTSTAMP:20260816T220000Z
DTEND:20260820T220000Z
END:VEVENT
BEGIN:VEVENT
UID:5012031@nors.ku.dk
DESCRIPTION:Workshop.\n\nhttps://nors.ku.dk/english/calendar/2026/ghosts-o
 f-empire-in-the-north-sea/
SUMMARY:CANCELLED: Call for papers: Ghosts of Empire in the North Sea
CATEGORIES:Workshop
LOCATION:Copenhagen
ORGANIZER:Karl Emil Rosenbæk Reetz in collaboration with the research col
 lective Ghost of Empire in the North Sea
DTSTART:20260819T220000Z
DTSTAMP:20260819T220000Z
DTEND:20260820T220000Z
END:VEVENT
BEGIN:VEVENT
UID:4988364@nors.ku.dk
DESCRIPTION:Konference\n\nhttps://nors.ku.dk/forskning/centre-og-forskergr
 upper/center-for-dialektforskning/kalender/13-nordiske-dialektologkonferen
 ce/
SUMMARY:13. Nordiske Dialektologkonference
CATEGORIES:Konference
LOCATION:Dalum Landbrugsskole\, Odense\, Danmark
ORGANIZER:Center for Dialektforskning ved Københavns Universitet
DTSTART:20260823T220000Z
DTSTAMP:20260823T220000Z
DTEND:20260825T220000Z
END:VEVENT
BEGIN:VEVENT
UID:4957293@nors.ku.dk
DESCRIPTION:TRANSITION Session at the 17th conference of the European Asso
 ciation for Urban History\, Barcelona\, Spain.\n\nhttps://transition.ku.dk
 /events/experiencing-transition-in-modern-urbanization/
SUMMARY:Experiencing transition in modern urbanization
CATEGORIES:Konference
LOCATION:Barcelona\, Spain
ORGANIZER:The European Association for Urban History (EAUH)
DTSTART:20260901T220000Z
DTSTAMP:20260901T220000Z
DTEND:20260904T220000Z
END:VEVENT
BEGIN:VEVENT
UID:5024503@nors.ku.dk
DESCRIPTION:The DAI-ME-conference.\n\nhttps://nors.ku.dk/english/calendar/
 2026/digital-identities-in-the-age-of-ai/
SUMMARY:Digital Identities in the Age of AI: Qualitative methods in Media 
 Studies (DAI-ME)
CATEGORIES:Konference
LOCATION:TBA
ORGANIZER:Department of Nordic Studies and Linguistics / Helle Kannik Haas
 trup and Katrine Sommer Boysen
DTSTART:20260930T220000Z
DTSTAMP:20260930T220000Z
DTEND:20261001T220000Z
END:VEVENT
END:VCALENDAR
