BEGIN:VCALENDAR
VERSION:2.0
METHOD:PUBLISH
PRODID::-//Obvius//NONSGML ICal//DA
BEGIN:VEVENT
UID:3316717@nors.ku.dk
DESCRIPTION:Seminar med Caroline Høglund Valentin Boolsen.\n\nhttps://nor
 s.ku.dk/kalender/2019/skandinaviske-stednavneelementer/
SUMMARY:Skandinaviske stednavneelementer i bebyggelsesnavne i Yorkshire
CATEGORIES:seminar
LOCATION:Søndre Campus\, lokale 27.4.04 (Tårnværelset)
ORGANIZER:Institut for Nordiske Studier og Sprogvidenskab / Navneforskning
 
DTSTART:20190308T131500Z
DTSTAMP:20190308T131500Z
DTEND:20190308T150000Z
END:VEVENT
END:VCALENDAR
